BEGIN:VCALENDAR
VERSION:2.0
PRODID:-//Funkenflug - Wildnisschule Erzgebirge - ECPv6.15.20//NONSGML v1.0//EN
CALSCALE:GREGORIAN
METHOD:PUBLISH
X-WR-CALNAME:Funkenflug - Wildnisschule Erzgebirge
X-ORIGINAL-URL:https://wildnispaedagogik-erzgebirge.de
X-WR-CALDESC:Veranstaltungen für Funkenflug - Wildnisschule Erzgebirge
REFRESH-INTERVAL;VALUE=DURATION:PT1H
X-Robots-Tag:noindex
X-PUBLISHED-TTL:PT1H
BEGIN:VTIMEZONE
TZID:UTC
BEGIN:STANDARD
TZOFFSETFROM:+0000
TZOFFSETTO:+0000
TZNAME:UTC
DTSTART:20250101T000000
END:STANDARD
END:VTIMEZONE
BEGIN:VEVENT
DTSTART;TZID=UTC:20260612T160000
DTEND;TZID=UTC:20260614T140000
DTSTAMP:20260424T143917
CREATED:20251129T103844Z
LAST-MODIFIED:20260125T180819Z
UID:4999-1781280000-1781445600@wildnispaedagogik-erzgebirge.de
SUMMARY:Draußenzeit Erzgebirgskamm
DESCRIPTION:Erzgebirgskamm \n\n\n\n\n\nTaucht in ein Wochenende\, das Erinnerungen und Begegnungen mit der erzgebirgischen Natur schafft.Ein Wochenende\, an dem ihr draußen seid\, das euch entschleunigt und gleichzeitig Kraft schenkt\, zusammenschweißt und an dem ihr für die Erzgebirgsnatur aktiv sein könnt.Ein Wochenende\, das für dich\, deine Familie\, für Eltern und Kinder bleibt. Für wen ist dieses Wochenende gedacht? Für alle Menschen die:– gemeinsam draußen aktiv sein möchten– ihren Kindern Naturerlebnisse schenken wollen– Abenteuer\, Spiel und Bewegung suchen– sich eine Pause von Medien und Alltag wünschen– erleben möchten\, wie gut Natur sich in einer sicheren Umgebung anfühlen kann– als Gemeinschaft wachsen wollen– einen bleibenden Wert für die erzgebirgische Natur schaffen wollenGeeignet für Naturintressierte\, Familien ohne oder mit Kindern der 1.-6.Klasse \n\n\n\n\n\n\n\nWas euch erwartet \n\n\n\n\nEine Nacht unter dem Sternenhimmel oder im eigenen Zelt an der deutsch-tschechischen Grenze inmitten von Bergwiesen am Fluss\n\n\n\nWildnisspiele\, die Teamgeist\, Geschick und Mut wecken\n\n\n\nBau einer Totholzpyramide als Lebensraum für verschiedene Tierarten\n\n\n\nEssbare Wildpflanzen entdecken\n\n\n\nFeuer selbst entzünden und Kochen über dem Lagerfeuer\n\n\n\nErlebniswanderungen zu verlassenen Dörfern\, in den nächtlichen Wald o.ä\n\n\n\nSchnitzen mit sicheren Techniken\, Wurfhölzer bauen\n\n\n\nBau eines Insektenhotels  zum Mitnehmen\, für Zuhause\n\n\n\nNaturschnüre herstellen\n\n\n\nRuhepausen\, in denen Kinder und Eltern ihre eigenen Wege gehen dürfen\n\n\n\n\nDie Inhalte variieren je nach Wetter\, Jahreszeit und Gruppeninteressen \n\n\n\n\n\n\n\nPreise \n\n\n\nErwachsener: 199 EuroKind: 79 EuroAb dem 2. Kind: 69 Euro \n\n\n\n\n\n\n\nIhr wollt euch ein Wochenende schenken\, das euch als Familie stärkt und verbindet?Dann sichert euch euren Termin hier: \n\n\n\n \n\n\n\nBitte nutze das Kontaktformular zum Buchen. \n\n\n\nHier buchen
URL:https://wildnispaedagogik-erzgebirge.de/event/draussenzeit-familie-feuer-spiel-sternenhimmel-2/
ATTACH;FMTTYPE=image/jpeg:https://wildnispaedagogik-erzgebirge.de/wp-content/uploads/2025/11/Adventure-in-Nature-Photocentric-Outdoor-Gear-Ads-Instagram-Story_20251127_170029_0000-scaled.jpg
END:VEVENT
BEGIN:VEVENT
DTSTART;TZID=UTC:20260614T100000
DTEND;TZID=UTC:20260617T160000
DTSTAMP:20260424T143917
CREATED:20250704T170532Z
LAST-MODIFIED:20260414T184106Z
UID:4910-1781431200-1781712000@wildnispaedagogik-erzgebirge.de
SUMMARY:Wildniswanderung - die Tour\, die bewegt
DESCRIPTION:Lust auf mehr Selbsterfahrung? Die Tour\, die dich bewegt. \n\n\n\nDu liebst es\, draußen zu sein? Du willst dich bewegen\, atmen\, spüren – und dabei etwas lernen? Dann komm mit. Diese geführte Wildniswanderung ist kein Spaziergang – und auch kein Survival-Trip.Es ist eine Einladung:An dich selbst.An deine Kraft.An dein Naturgefühl. Gemeinsam mit den Tourenleitern Ben und Yvi machst du dich auf den Weg – mit Rucksack\, einfachen Mitteln und offenem Herzen. Drei Tage\, die dich körperlich fordern\, dir Wissen an die Hand geben und dich auf neue Weise mit der Natur verbinden. \n\n\n\nWas dich erwartet: – Wandern durch das Erzgebirge – 30 bis 40 km in 3 Tagen– Schlafen unter freiem Himmel – Tarp\, Plane\, Biwak oder Hängematte Feuer & Zunderkunde – Was brennt wann und wie?– Kräuterwissen – Pflanzen erkennen\, nutzen und wertschätzen – Verletzungsprävention und Erste Hilfe – mit einfachen Mitteln – Orientierung & Wetterkunde – Karte\, Kompass\, Himmelszeichen– Gemeinschaft erleben – als Gruppe unterwegs sein\, sich austauschen\, gemeinsam wachsen.Was bleibt: Müde Beine. Glühende Augen. Neue Perspektiven. Und vielleicht ein kleines Feuer\, das du mit nach Hause nimmst – im Herzen.Du solltest körperlich fit genug sein\, um mit Rucksack mehrere Stunden täglich zu wandern – und offen dafür\, auch mal aus deiner Komfortzone zu treten.Startpunkt: Zschopau\, der genaue Standort wird zum Zoom-Meeting bekannt gegeben. \n\n\n\n \n\n\n\nBitte nutze das Kontaktformular zum Buchen.Gib bitte deinen vollständigen Namen\, deine Adresse und den Kursnamen an\, damit die Buchung abgeschlossen werden kann. \n\n\n\nHier buchen
URL:https://wildnispaedagogik-erzgebirge.de/event/wildniswanderung-die-tour-die-bewegt/
ATTACH;FMTTYPE=image/jpeg:https://wildnispaedagogik-erzgebirge.de/wp-content/uploads/2025/07/WhatsApp-Image-2025-12-09-at-12.34.45.jpeg
END:VEVENT
BEGIN:VEVENT
DTSTART;TZID=UTC:20260725T100000
DTEND;TZID=UTC:20260726T160000
DTSTAMP:20260424T143917
CREATED:20251129T104544Z
LAST-MODIFIED:20251129T104549Z
UID:5003-1784973600-1785081600@wildnispaedagogik-erzgebirge.de
SUMMARY:Draußenzeit Familie - Feuer. Spiel. Sternenhimmel.
DESCRIPTION:Taucht in ein Wochenende\, das Erinnerungen und Erfahrungen schafft.Ein Wochenende\, an dem ihr draußen seid\, dass euch entschleunigt und gleichzeitig Kraft schenkt\, zusammenschweißt.Ein Wochenende\, das bleibt. Für wen ist dieses Wochenende gedacht? Für Familien\, die:– gemeinsam draußen aktiv sein möchten– ihren Kindern Naturerlebnisse schenken wollen– Abenteuer\, Spiel und Bewegung suchen– sich eine Pause von Medien und Alltag wünschen– erleben möchten\, wie gut Natur sich in einer sicheren Umgebung anfühlen kann– als Familie wachsen wollenGeeignet für Familien mit Kindern der 1.-6.Klasse \n\n\n\n\n\n\n\nWas euch erwartet \n\n\n\n\nEine Nacht unter dem Sternenhimmel oder im eigenen Zelt\n\n\n\nWildnisspiele\, die Teamgeist\, Geschick und Mut wecken\n\n\n\nKochen über dem Lagerfeuer\n\n\n\nFeuer selbst entzünden\n\n\n\nSchnitzen mit sicheren Techniken\n\n\n\nWurfhölzer bauen\n\n\n\nNaturschnüre herstellen\n\n\n\nEssbare Wildpflanzen entdecken\n\n\n\nRuhepausen\, in denen Kinder und Eltern ihre eigenen Wege gehen dürfen\n\n\n\n\nDie Inhalte variieren je nach Wetter\, Jahreszeit und Gruppeninteressen \n\n\n\n\n\n\n\nPreise \n\n\n\nErwachsener: 179 EuroKind: 79 EuroAb dem 2. Kind: 69 Euro \n\n\n\n\n\n\n\nIhr wollt euch ein Wochenende schenken\, das euch als Familie stärkt und verbindet?Dann sichert euch euren Termin hier: \n\n\n\n \n\n\n\nBitte nutze das Kontaktformular zum Buchen. \n\n\n\nHier buchen
URL:https://wildnispaedagogik-erzgebirge.de/event/draussenzeit-familie-feuer-spiel-sternenhimmel-3/
ATTACH;FMTTYPE=image/jpeg:https://wildnispaedagogik-erzgebirge.de/wp-content/uploads/2025/11/Adventure-in-Nature-Photocentric-Outdoor-Gear-Ads-Instagram-Story_20251127_171500_0000-scaled.jpg
END:VEVENT
BEGIN:VEVENT
DTSTART;TZID=UTC:20260920T180000
DTEND;TZID=UTC:20260927T160000
DTSTAMP:20260424T143917
CREATED:20260413T182621Z
LAST-MODIFIED:20260413T192445Z
UID:5048-1789927200-1790524800@wildnispaedagogik-erzgebirge.de
SUMMARY:Wasserwandern mit Kanu in Schweden – eine Woche im Rhythmus der Natur
DESCRIPTION:Diese einwöchige Wasserwanderung mit Kanus führt uns durch die stillen Seen- und Flusslandschaften Schwedens. Abseits des 9 to 5-Alltags genießen wir Entschleunigung\, Naturverbundenheit. Keine Ablenkung. Nur Wasser\, Wetter und die Strecke. Genau das schärft den Blick. So wird deine Wahrnehmung ruhiger\, klarer\, fokussierter. Du lernst und siehst danach\, was wirklich wichtig ist.Tagsüber paddeln wir meistens im Kanu\, abends schlagen wir das Biwak mitten in Schweden auf\, kochen selbst und natürlich am Feuer\, schlafen draußen\, wo das Wasser Schwedens uns hinführt.Der Alltag wird sich nach dem Licht\, dem Wetter\, der persönlichen Energie und dem Gelände richten.Genau so erlernen wir notwendige Skills: Navigation\, Lagerbau\, Feuer\, Kochen\, Sicherheit und Gruppenorganisation. Henry lebt in Schweden und kennt die Landschaft nicht nur aus Büchern\, sondern seinem Alltag. Dieser Kurs richtet sich an Menschen\, die Bewegung\, Verantwotung und echtes Leben lieben.Wasserwandern in Schweden ist kein Wellnessformat\, sondern Präsenz.InhaltMehrtägige Kanu-Wasserwanderung durch schwedische Seen und Flüsse \n\n\n\n\nLeben in und mit der Natur: Schlafen im Freien oder im Biwak\n\n\n\n\n\nGemeinsames Kochen am Lagerfeuer\n\n\n\n\n\nEinführung in Navigation ohne Technik (Karte\, Kompass\, natürliche Orientierung)\n\n\n\n\n\nSicherheitstraining und Umgang mit Gefahren zu Wasser\n\n\n\n\n\nWahrnehmungs- und Achtsamkeitsübungen in der Natur\n\n\n\n\n\nWildnispädagogische Impulse zu Naturverbindung\, Spurenlesen und Landschaftsverständnis\n\n\n\n\nDie Verpflegung ist pesketarisch und regional orientiert. \n\n\n\nIhr wollt euch ein Wochenende schenken\, das euch als Familie stärkt und verbindet?Dann sichert euch euren Termin hier: \n\n\n\nBitte nutze das Kontaktformular zum Buchen. \n\n\n\nHier buchen
URL:https://wildnispaedagogik-erzgebirge.de/event/wasserwandern-mit-kanu-in-schweden-eine-woche-im-rhythmus-der-natur/
ATTACH;FMTTYPE=image/jpeg:https://wildnispaedagogik-erzgebirge.de/wp-content/uploads/2026/04/WhatsApp-Image-2026-01-25-at-21.15.58.jpeg
END:VEVENT
BEGIN:VEVENT
DTSTART;TZID=UTC:20260926T100000
DTEND;TZID=UTC:20260927T160000
DTSTAMP:20260424T143917
CREATED:20251129T105045Z
LAST-MODIFIED:20251129T105051Z
UID:5006-1790416800-1790524800@wildnispaedagogik-erzgebirge.de
SUMMARY:Draußenzeit Familie - Feuer. Spiel. Sternenhimmel.
DESCRIPTION:Taucht in ein Wochenende\, das Erinnerungen und Erfahrungen schafft.Ein Wochenende\, an dem ihr draußen seid\, dass euch entschleunigt und gleichzeitig Kraft schenkt\, zusammenschweißt.Ein Wochenende\, das bleibt. Für wen ist dieses Wochenende gedacht? Für Familien\, die:– gemeinsam draußen aktiv sein möchten– ihren Kindern Naturerlebnisse schenken wollen– Abenteuer\, Spiel und Bewegung suchen– sich eine Pause von Medien und Alltag wünschen– erleben möchten\, wie gut Natur sich in einer sicheren Umgebung anfühlen kann– als Familie wachsen wollenGeeignet für Familien mit Kindern der 1.-6.Klasse \n\n\n\n\n\n\n\nWas euch erwartet \n\n\n\n\nEine Nacht unter dem Sternenhimmel oder im eigenen Zelt\n\n\n\nWildnisspiele\, die Teamgeist\, Geschick und Mut wecken\n\n\n\nKochen über dem Lagerfeuer\n\n\n\nFeuer selbst entzünden\n\n\n\nSchnitzen mit sicheren Techniken\n\n\n\nWurfhölzer bauen\n\n\n\nNaturschnüre herstellen\n\n\n\nEssbare Wildpflanzen entdecken\n\n\n\nRuhepausen\, in denen Kinder und Eltern ihre eigenen Wege gehen dürfen\n\n\n\n\nDie Inhalte variieren je nach Wetter\, Jahreszeit und Gruppeninteressen \n\n\n\n\n\n\n\nPreise \n\n\n\nErwachsener: 179 EuroKind: 79 EuroAb dem 2. Kind: 69 Euro \n\n\n\n\n\n\n\nIhr wollt euch ein Wochenende schenken\, das euch als Familie stärkt und verbindet?Dann sichert euch euren Termin hier: \n\n\n\n \n\n\n\nBitte nutze das Kontaktformular zum Buchen. \n\n\n\nHier buchen
URL:https://wildnispaedagogik-erzgebirge.de/event/draussenzeit-familie-feuer-spiel-sternenhimmel-4/
ATTACH;FMTTYPE=image/jpeg:https://wildnispaedagogik-erzgebirge.de/wp-content/uploads/2025/11/Adventure-in-Nature-Photocentric-Outdoor-Gear-Ads-Instagram-Story_20251127_171659_0000-scaled.jpg
END:VEVENT
BEGIN:VEVENT
DTSTART;TZID=UTC:20261118T080000
DTEND;TZID=UTC:20261122T170000
DTSTAMP:20260424T143917
CREATED:20260414T181254Z
LAST-MODIFIED:20260414T181708Z
UID:5060-1794988800-1795366800@wildnispaedagogik-erzgebirge.de
SUMMARY:Wildniswanderung am Erzgebirgskamm
DESCRIPTION:Lust auf mehr Selbsterfahrung? Die Tour\, die dich bewegt. \n\n\n\nDu liebst es\, draußen zu sein? Du willst dich bewegen\, atmen\, spüren – und dabei etwas lernen? Dann komm mit. Diese geführte Wildniswanderung ist kein Spaziergang – und auch kein Survival-Trip.Es ist eine Einladung:An dich selbst.An deine Kraft.An dein Naturgefühl. Gemeinsam mit den Tourenleitern Ben und Yvi machst du dich auf den Weg – mit Rucksack\, einfachen Mitteln und offenem Herzen. Drei Tage\, die dich körperlich fordern\, dir Wissen an die Hand geben und dich auf neue Weise mit der Natur verbinden. \n\n\n\nWas dich erwartet: – Wandern auf dem Erzgebirgskamm – ca 80 km in 5 Tagen– Schlafen unter freiem Himmel – Tarp\, Plane\, Biwak oder Hängematte Feuer & Zunderkunde – Was brennt wann und wie?– Kräuterwissen – Pflanzen erkennen\, nutzen und wertschätzen – Verletzungsprävention und Erste Hilfe – mit einfachen Mitteln – Orientierung & Wetterkunde – Karte\, Kompass\, Himmelszeichen– Gemeinschaft erleben – als Gruppe unterwegs sein\, sich austauschen\, gemeinsam wachsen.Was bleibt: Müde Beine. Glühende Augen. Neue Perspektiven. Und vielleicht ein kleines Feuer\, das du mit nach Hause nimmst – im Herzen.Du solltest körperlich fit genug sein\, um mit Rucksack mehrere Stunden täglich zu wandern – und offen dafür\, auch mal aus deiner Komfortzone zu treten.Startpunkt: Der genaue Standort wird zum Zoom-Meeting bekannt gegeben. \n\n\n\n \n\n\n\nBitte nutze das Kontaktformular zum Buchen.Gib bitte deinen vollständigen Namen\, deine Adresse und den Kursnamen an\, damit die Buchung abgeschlossen werden kann. \n\n\n\nHier buchen
URL:https://wildnispaedagogik-erzgebirge.de/event/wildniswanderung-am-erzgebirgskamm/
ATTACH;FMTTYPE=image/jpeg:https://wildnispaedagogik-erzgebirge.de/wp-content/uploads/2026/04/IMG_6465-1-scaled.jpg
END:VEVENT
END:VCALENDAR