BEGIN:VCALENDAR
VERSION:2.0
PRODID:-//Funkenflug - Wildnisschule Erzgebirge - ECPv6.15.20//NONSGML v1.0//EN
CALSCALE:GREGORIAN
METHOD:PUBLISH
X-WR-CALNAME:Funkenflug - Wildnisschule Erzgebirge
X-ORIGINAL-URL:https://wildnispaedagogik-erzgebirge.de
X-WR-CALDESC:Veranstaltungen für Funkenflug - Wildnisschule Erzgebirge
REFRESH-INTERVAL;VALUE=DURATION:PT1H
X-Robots-Tag:noindex
X-PUBLISHED-TTL:PT1H
BEGIN:VTIMEZONE
TZID:UTC
BEGIN:STANDARD
TZOFFSETFROM:+0000
TZOFFSETTO:+0000
TZNAME:UTC
DTSTART:20240101T000000
END:STANDARD
END:VTIMEZONE
BEGIN:VEVENT
DTSTART;TZID=UTC:20260402T163000
DTEND;TZID=UTC:20260403T160000
DTSTAMP:20260424T155622
CREATED:20251124T183254Z
LAST-MODIFIED:20251209T113548Z
UID:4985-1775147400-1775232000@wildnispaedagogik-erzgebirge.de
SUMMARY:Jahresausbildung - Trekking-Guide
DESCRIPTION:Deine Ausbildung zum Trekking-Guide und Wildniswanderleiter: Natur erleben\, Menschen führen\, Wildnis verstehen …Diese Ausbildung richtet sich an alle\, die ihre Leidenschaft für Natur\, Bewegung und das einfache Leben unter freiem Himmel mit anderen teilen möchten. Als Trekking Guide wirst du befähigt\, Gruppen sicher\, verantwortungsvoll und mit Achtsamkeit durch die Natur zu führen – ob auf mehrtägigen Touren\, Tagestouren oder individuellen Erlebnissen in Wald und Berg.Im Mittelpunkt steht die Verbindung von Naturverbundenheit und Wanderlust- Du lernst\, wie du Menschen auf ihren Wegen begleitest\, nicht nur geographisch\, sondern auch emotional.INHALTE UND KOMPETENZENWährend der Ausbildung erlangst du fundiertes Wissen und praktische Fähigkeiten in den Bereichen:– Sichere Führung von Gruppen: Planung\, Kommunikation\, Orientierung und Verantwortung in unterschiedlichen Geländen und Wetterbedingungen– Erstellen von Touren: Routenplanung\, Kartenkunde\, Navigation\, Einschätzung von Kondition und Gruppendynamik– Umgang mit Gefahren in der Natur: Wetter\, Wildtiere\, Notfälle\, Risikomanagement und Sicherheitsstrategien– Outdoor-Erste-Hilfe: Sofortmaßnahmen\, improvisierte Versorgung und sicheres Handeln abseits der Zivilisation– Elementare Wildnis- und Naturpädagogik: Naturverbindung\, Achtsamkeit\, Pflanzenwissens\, einfache Lagertechniken und die Kunst des Draußen-Seins– Gesunde Ernährung am Wegesrand: Wildkräuter\, nährstoffreiche Outdoorküche\, nachhaltige Verpflegungskonzepte – Ausrüstungskunde: Auswahl\, Pflege und sinnvoller Einsatz von Trekking-\, Sicherheits- und Outdoor-Equipment– Erlernen intuitiver Fähigkeiten und tiefenökologischer Betrachtung auf dich selbst und deine Umgebung– Ausrüstungskunde: Auswahl\, Pflege und sinnvoller Einsatz von Trekking-\, Sicherheits- und Outdoor-EquipmentDEINE TREKKING-GUIDE-DATEN02. April – 06. April 202607. Mai – 10. Mai 202604. Juni – 07. Juni 202627. August – 30. August 202618. November – 22. November 2026Die Anreise erfolgt jeweils von 16:00 – 18 Uhr.Zum Modul im November erfolgt die Anreise bis 10:00 Uhr.DEIN GEWINNNach Abschluss der Ausbildung bist du in der Lage\, Trekkingtouren eigenständig zu planen und zu leiten – kompetent\, naturbewusst und mit Gespür für Menschen.Du wirst nicht nur Wege zeigen\, sondern Räume eröffnen. Für Stille\, Gemeinschaft\, Abenteuer und echte Verbindung mit der Natur. Nach Abschluss aller Module erhältst du ein Abschlusszertifikat. \n\n\n\n \n\n\n\nBitte nutze das Kontaktformular zum Buchen. \n\n\n\nHier buchen
URL:https://wildnispaedagogik-erzgebirge.de/event/jahresausbildung-trekking-guide/
ATTACH;FMTTYPE=image/jpeg:https://wildnispaedagogik-erzgebirge.de/wp-content/uploads/2025/11/Trekking-Guide-scaled.jpg
END:VEVENT
BEGIN:VEVENT
DTSTART;TZID=UTC:20260131T090000
DTEND;TZID=UTC:20260131T160000
DTSTAMP:20260424T155622
CREATED:20251209T120333Z
LAST-MODIFIED:20251209T121138Z
UID:5014-1769850000-1769875200@wildnispaedagogik-erzgebirge.de
SUMMARY:Wolfstracking Erzgebirge
DESCRIPTION:Wolfs-Spuren lesen – Tagesseminar in RübenauEin Tag im Wald\, an dem wir die geheimen Wege der Wölfe sichtbar machen.In diesem Tagesseminar gehen wir raus und schauen uns die Lebensweise dieser heimlichen Vierbeiner an\, denn Spuren verraten mehr\, als man denkt. \n\n\n\nWas dich erwartet:Wie ein Trittsiegel entsteht. \n\n\n\nWie Bewegung\, Wetter und Zeit auf Spuren auswirken. \n\n\n\nWie du langsamer wirst als ein Sonntagmorgen und anfängst\, die Natur wirklich zu sehen.Weshalb hier langsam sein\, den Vorteil bringt und Geduld ein guter Freund sein kann. \n\n\n\nWolfswissen kompakt: Wie sie leben\, laufen\, jagen und warum sie meistens lieber Abstand halten. \n\n\n\nTrailing in echt: Spuren lesen\, folgen\, deuten und dabei die Orientierung behalten.Draußen unterwegs\, Naturverbindung schaffen und Gemeinschaft genießen.Für alle neugierigen Naturmenschen mit Lust auf Wald\, Witterung und ein bisschen Abenteuer. Keine Vorkenntnisse nötig\, nur wetterfeste Kleidung und ein Funken Interesse. \n\n\n\nWann:31.01.2026\, 9–16 UhrOrt: Rübenau\, 09496 Marienberg (genaue Stelle folgt)Beitrag:80 EuroMitbringen: warme Kleidung\, robuste Schuhe\, Thermoskanne\, kleine Brotzeit\, Schreibzeug\, Maßband/Zollstock\, NotizbuchKursleiter:Ben Kretzschmar/Gründer von Funkenflug – Wildnisschule Erzgebirge und Karl Winter-Brummer/Gründer der Wildnisschule HeidefeuerBitte nutze das Kontaktformular zum Buchen. \n\n\n\nHier buchen
URL:https://wildnispaedagogik-erzgebirge.de/event/wolfstracking-erzgebirge/
ATTACH;FMTTYPE=image/png:https://wildnispaedagogik-erzgebirge.de/wp-content/uploads/2025/12/Wolfstracking-scaled.png
END:VEVENT
BEGIN:VEVENT
DTSTART;TZID=UTC:20251025T080000
DTEND;TZID=UTC:20251102T170000
DTSTAMP:20260424T155622
CREATED:20250804T154717Z
LAST-MODIFIED:20250804T154723Z
UID:4931-1761379200-1762102800@wildnispaedagogik-erzgebirge.de
SUMMARY:Wildniswanderung "Hintere Sächsische Schweiz"
DESCRIPTION:Wandern. Fühlen. Feuern. „Du sehnst dich nach echtem Naturkontakt\, Stille unter Sternen und Feuerkraft im goldenen Herbst? Dann komm mit – auf eine Wildnisreise durch das stille Herz des Elbsandsteins.“ Vorab – ein späteres Zukommen ist nach individueller Absprache möglich! \n\n\n\nDas erwartet dich:1. Abseits der Touristenpfade tauchen wir tief in die unberührte Wildnis der Hinteren Sächsischen Schweiz ein. Zwischen goldenen Laubwäldern\, uralten Sandsteinhöhlen und knisterndem Feuer findest du zurück zu deiner Naturkraft. Highlights: Geführte Wildniswanderung durch eine der ruhigsten Regionen des Elbsandsteingebirges. \n\n\n\n2. Übernachtung unter freiem Himmel in privaten Boofen/auf privaten Wildnisplätzen – mit Schlafsack & Biwaksack im Einklang mit Leave-No-Trace-Ethik\, Übernachtungen in Pension nach Absprache möglich. \n\n\n\n3. Wildnisskills & Naturverbindung: Wildkräuter\, Spurenlesen\, Vogelstimmen\, Wahrnehmungsübungen. \n\n\n\n4. Optionales Eisbaden im klaren Bachlauf – angeleitet & sicher. \n\n\n\n5. Besuch beim Imker mit Einblick in die Apitherapie (optional). \n\n\n\n6. Halloween am Feuer – Feuerschale\, Feuerskills & Geschichten in der Nacht vom 31.10. \n\n\n\n7. Fakultatives Morgenritual mit Yoga. \n\n\n\n8. Leih-Equipment auf Anfrage verfügbar Flexibel & familienfreundlich: Einstieg & Ausstieg individuell möglich Auch für Teens ab 10 Jahren geeignet Hunde willkommen. \n\n\n\n9. Kids dürfen kostenlos mitwandern. \n\n\n\nInfos auf einen Blick: Zeitraum: 25.10. – 02.11.2025 Treffpunkt: Bahnhof Bad Schandau (gut erreichbar mit der DB) Kosten: 399 € für die gesamte Tour (exkl. individueller Verpflegung\, optionaler ÜN in Wanderquartieren) Teilnahme anteilig möglich – Preis nach Absprache Verpflegung: Selbstversorgung\, Einkehr & Einkauf unterwegs möglich
URL:https://wildnispaedagogik-erzgebirge.de/event/wildniswanderung-hintere-saechsische-schweiz/
ATTACH;FMTTYPE=image/jpeg:https://wildnispaedagogik-erzgebirge.de/wp-content/uploads/2025/08/VID-20250719-WA0003.jpg
END:VEVENT
BEGIN:VEVENT
DTSTART;TZID=UTC:20250919T100000
DTEND;TZID=UTC:20250921T160000
DTSTAMP:20260424T155622
CREATED:20250226T224404Z
LAST-MODIFIED:20250519T212245Z
UID:4640-1758276000-1758470400@wildnispaedagogik-erzgebirge.de
SUMMARY:Waldzeit und Naturrituale
DESCRIPTION:Der Wald spricht.Tief im Wurzelwerk des Waldes liegt ein verborgendes Wissen\, das älter ist als Worte. Es singt in den Zweigen\, tanzt im Rauch des Feuers und lebt im stillen Blick der Vögel. Achtsam\, geerdet und verwoben mit der Wildnis um uns herum\, tauchen wir in den Wald ein. Wir lauschen dem\, was zwischen den Zeilen des Alltags verloren gegangen ist und gehen barfuß\, fragen Pflanzen und Pilze\, was sie einst zu erzählen wussten\, entzünden Feuer und Verbindung.In kleinen Ritualen\, Geschichten und Naturbegegnungen erinnern wir uns: traditionelles Wissen lebt im Erleben\, nicht im Lehren..Dieser Kurs ist für Dich\, wenn Du …… Sehnsucht nach Tiefe spürst.… Dich nach echter Naturverbindung sehnst.… dem Ruf der Erde folgen willst – leise\, aber deutlich.Bitte nutze das Kontaktformular zum Buchen. \n\n\n\nHier buchen
URL:https://wildnispaedagogik-erzgebirge.de/event/wildniswochenende-draussenzeit/
ATTACH;FMTTYPE=image/jpeg:https://wildnispaedagogik-erzgebirge.de/wp-content/uploads/2025/02/Waldzeit-und-Naturrituale.jpg
END:VEVENT
BEGIN:VEVENT
DTSTART;TZID=UTC:20250912T150000
DTEND;TZID=UTC:20250914T170000
DTSTAMP:20260424T155622
CREATED:20250404T134615Z
LAST-MODIFIED:20250404T155054Z
UID:4845-1757689200-1757869200@wildnispaedagogik-erzgebirge.de
SUMMARY:Retreat yourself
DESCRIPTION:RETREAT YOURSELF – Eine Auszeit für dich! Spürst Du die Erschöpfung des Alltags und sehnst Dich nach einer echten Pause? Musst Du im Berufsalltag oder zu Hause „funktionieren“ und benötigst einen Reset?Lass den Stress hinter Dir und tauche in ein Wochenende voller Entspannung\, Natur und neuer Energie ein. Drei Wege zu Dir – Dein persönliches Retreat-PaketAn diesem Wochenende hast Du die Wahl zwischen drei liebevoll gestalteten Paketen. Wähle Dein persönliches Wunschprogramm – je nachdem\, wieviel Rückzug\, Begleitung oder Geborgenheit du brauchst:1 I Erdung – Dein Rückzug in die Natur– Übernachtung in der Jurte oder unter freiem Himmel– Vollpension mit Wildnisküche – gesund\, nahrhaft\, mit Liebe und Dir zubereitet– Naturzeit\, Waldbaden\, Achtsamkeitsübungen – Baden im Naturteich– Freiraum für Dich – still\, einfach\, klar– gemeinsame Abende am FeuerPreis: 449 Euro2 I Ankommen – Entspannung mit Begleitung– alles aus Erdung– Yogaeinheiten\, geführte Entspannungsreisen– Nutzung der SaunaPreis: 499 Euro3 I Geborgenheit– alles aus Erdung und Ankommen– Übernachtung im geschützten Rahmen des Terra-HubsPreis: 579 EuroSchlafen auf der ErdeOb unter dem Sternenhimmel\, in der Jurte oder geborgen im TerraHub – Du schläfst nah an der Erde und ganz bei Dir\, denn die Erde trägt.Die bodennahe Art zu schlafen verbindet Dich somit unmittelbar mit der Erde. Sie schenkt Dir Ruhe\, Klarheit und ein Gefühl von Getragensein. Wir freuen uns auf Dich!Anreise: Freitag ab 15 UhrProgrammstart: 17 UhrAbreise Sonntag 15 Uhr Leitung: Susann & Ben Kretzschmar | Dominique Riedel Ort: Terra Ursprung\, 09385 Ursprung\, Feldgasse 7Link zum Veranstaltungsort: https://terra-ursprung.de/ \n\n\n\n \n\n\n\nWir freuen uns\, wenn Du das Kontaktformular zum Buchen nutzt.Gib bitte Deinen vollständigen Namen und deine Adresse\, sowie die Bezeichnung des gewünschten Retreat-Paketes (Erdung\, Ankommen oder Geborgenheit) an. \n\n\n\nHier buchen
URL:https://wildnispaedagogik-erzgebirge.de/event/retreat-yourself/
ATTACH;FMTTYPE=image/png:https://wildnispaedagogik-erzgebirge.de/wp-content/uploads/2025/04/Retreat-yourself.png
END:VEVENT
BEGIN:VEVENT
DTSTART;TZID=UTC:20250906T090000
DTEND;TZID=UTC:20250906T120000
DTSTAMP:20260424T155622
CREATED:20250704T163331Z
LAST-MODIFIED:20250704T164257Z
UID:4903-1757149200-1757160000@wildnispaedagogik-erzgebirge.de
SUMMARY:Hut und Stiel - Pilzwanderung für Einsteiger
DESCRIPTION:Pilze sind mehr als nur essbar oder giftig. Sie sind magische Verwandlungskünstler mit Hut und Stiel!Du willst Pilze endlich sicherer erkennen? Essbar oder lieber stehen lassen? Dann komm mit auf meine Pilzwanderung. Aber ich zeig dir noch viel mehr. Pilze können färben\, schnitzen\, duften – sie erzählen vom Wandel\, vom Vergehen\, vom Wiederkommen. Sie verbinden\, zersetzen\, erschaffen. Und sie schmecken nicht nur im Topf – sondern auch als Tee. Lass dich überraschen von den Wundern unter dem Moos.Wald-Pilzwissen für Einsteiger – mit Herz\, Hand und einem Hauch Magie.Kursleiter: Ben – Wildnispädagoge und PilzcoachInfos zum Treffpunkt: Vereinshaus des Gartenvereins „Am Greifenstein e.V.“Bitte nutze das Kontaktformular zum Buchen.Gib bitte deinen vollständigen Namen\, deine Adresse und den Kursnamen an\, damit die Buchung abgeschlossen werden kann. \n\n\n\nHier buchen
URL:https://wildnispaedagogik-erzgebirge.de/event/hut-und-stiel-pilzwanderung-fuer-einsteiger/
ATTACH;FMTTYPE=image/jpeg:https://wildnispaedagogik-erzgebirge.de/wp-content/uploads/2025/07/Adventure_in_Nature_Photocentric_Outdoor_Gear_Ads_Instagram_Story.jpg
END:VEVENT
BEGIN:VEVENT
DTSTART;TZID=UTC:20250621T100000
DTEND;TZID=UTC:20250621T140000
DTSTAMP:20260424T155622
CREATED:20250608T082510Z
LAST-MODIFIED:20250608T082512Z
UID:4878-1750500000-1750514400@wildnispaedagogik-erzgebirge.de
SUMMARY:Sommersonnenwende & Nature Journaling
DESCRIPTION:Zwischen Stift \, Kraft und Kraut.  \n\n\n\nAm 21. Juni um 10:00 Uhr laden wir dich herzlich ein\, mit uns die Sommersonnenwende zu feiern – den Höhepunkt des Lichts\, die Kraft der Sonne und die Wärme in unseren Herzen. \n\n\n\nWir sagen Danke – dem großen Feuer am Himmel\, das uns nährt und leitet. \n\n\n\nMit Stift und Farbe begegnen wir seinen irdischen Vertretern\, gestalten aus Naturgeschenken kleine Erinnerungen\, die auch in dunklen Zeiten Licht ins Gemüt bringen können. \n\n\n\nEin schöpferischer\, achtsamer Moment – in Verbundenheit mit der Erde\, dem Licht und miteinander. \n\n\n\nDer genaue Treffpunkt wird dir nach der Anmeldung mitgeteilt. \n\n\n\nMelde dich gerne an und bring dein inneres Licht mit 🌞Bitte nutze das Kontaktformular zum Buchen.Gib bitte deinen vollständigen Namen\, deine Adresse und den Kursnamen an\, damit die Buchung abgeschlossen werden kann. \n\n\n\nHier buchen
URL:https://wildnispaedagogik-erzgebirge.de/event/sommersonnenwende-nature-journaling/
ATTACH;FMTTYPE=image/jpeg:https://wildnispaedagogik-erzgebirge.de/wp-content/uploads/2025/06/IMG_0467.jpeg
END:VEVENT
BEGIN:VEVENT
DTSTART;TZID=UTC:20250613T160000
DTEND;TZID=UTC:20250615T170000
DTSTAMP:20260424T155622
CREATED:20250226T223816Z
LAST-MODIFIED:20250608T071042Z
UID:4629-1749830400-1750006800@wildnispaedagogik-erzgebirge.de
SUMMARY:Ruf der Wildnis - Überleben in Harmonie mit der Natur
DESCRIPTION:Der Kurs zum Überleben mit und in der Natur. 2 Nächte pures Draußensein. Gemeinsam folgen wir dem Ruf der Wildnis! \n\n\n\nLerne\, Dich mit der Natur zu verbinden und in ihr\, zu Hause zu fühlen. Stelle Deinen eigenen Feuerbogen her\, erlerne traditionelle Techniken des Lebens unter freiem Himmel und entdecke Deine eigenen Fähigkeiten für ein einfaches Leben im Draußen. Dabei geht es weniger um hartes Survival\, sondern um intuitives Handeln im Einklang mit der Umgebung und um das Erlernen von Grundkenntnissen für ein einfaches Leben in der Natur – ohne ihr zu schaden\, im Einklang mit allem Leben.Darauf kannst Du Dich freuen:– Wildnisküche– 1×1 der Knoten– Herstellen von Schnüren und hilfreichen Werkzeugen– Bau einer Schutzbehausung– Erkennen von Gefahren im Wald– Fortbewegungs- und Wahrnehmungsübungen– Erste Hilfe im Wald– Improvisation– Feuer mit einfachen Hilfsmitteln \n\n\n\nBitte nutze das Kontaktformular zum Buchen.Gib bitte deinen vollständigen Namen\, deine Adresse und den Kursnamen an\, damit die Buchung abgeschlossen werden kann.  \n\n\n\nHier buchen
URL:https://wildnispaedagogik-erzgebirge.de/event/survival/
ATTACH;FMTTYPE=image/jpeg:https://wildnispaedagogik-erzgebirge.de/wp-content/uploads/2025/02/Survival.jpg
END:VEVENT
BEGIN:VEVENT
DTSTART;TZID=UTC:20250601T100000
DTEND;TZID=UTC:20250601T130000
DTSTAMP:20260424T155622
CREATED:20250226T232826Z
LAST-MODIFIED:20250321T101447Z
UID:4664-1748772000-1748782800@wildnispaedagogik-erzgebirge.de
SUMMARY:Zwischen Wurzeln und Flügeln - der Natur auf der Spur
DESCRIPTION:Wir laden Dich ein\, die verborgenen Verbindungen zwischen Insekten und Pflanzen zu entdecken. Als Wildnispädagogen\, Kräuterkundige und Blühbotschafter zeigen wir Dir\, wie eng ihre Schicksale verwoben sind und wie wunderbar die nähere Betrachtung ihrer Verbindung ist. Bring nach Möglichkeit eine Lupe mit\, trage festes Schuhwerk und tauche ein! Diese Veranstaltung findet im Rahmen der Blühbotschaftertätigkeit des Landschaftspflegeverbandes statt. Kursleiter: Josa und Ben Treffpunkt: Parkplatz beim Friedhof Zschopau \n\n\n\n \n\n\n\nBitte nutze das Kontaktformular zum Buchen. \n\n\n\n \n\n\n\nHier buchen
URL:https://wildnispaedagogik-erzgebirge.de/event/zwischen-wurzeln-und-fluegeln-der-natur-auf-der-spur/
LOCATION:Parkplatz am Friedhof Zschopau\, Am Umspannwerk\, Zschopau\, 09405
ATTACH;FMTTYPE=image/png:https://wildnispaedagogik-erzgebirge.de/wp-content/uploads/2025/02/DerNaturaufderSpur_Fruehlingsspaziergang.png
END:VEVENT
BEGIN:VEVENT
DTSTART;TZID=UTC:20250525T100000
DTEND;TZID=UTC:20250525T113000
DTSTAMP:20260424T155622
CREATED:20250226T232512Z
LAST-MODIFIED:20250309T142428Z
UID:4659-1748167200-1748172600@wildnispaedagogik-erzgebirge.de
SUMMARY:Wild Walk - mit den Blühbotschaftern unterwegs
DESCRIPTION:… was die Natur dir zuflüstert. In der Woche der Artenvielfalt wollen wir Dich zu einem besonderem Spaziergang einladen. Wir nehmen Dich mit auf eine Reise zu den verborgenen Wundern der Natur. Als Wildnispädagogen und Kräuterfachkundige enthüllen wir die Geschichten am Wegesrand – leise\, uralt und voller Wunder. Lausche dem wilden Flüstern!  Diese Veranstaltung findet im Rahmen der Blühbotschaftertätigkeit des Landschaftspflegeverbandes statt. Kursleiter: Susi und Ben \n\n\n\n \n\n\n\nBitte nutze das Kontaktformular zum Buchen. \n\n\n\n \n\n\n\nHier buchen
URL:https://wildnispaedagogik-erzgebirge.de/event/wild-walk-mit-den-bluehbotschaftern-unterwegs/
LOCATION:Gartenverein „Am Greifenstein e.V.“\, Triftweg 20\, Ehrenfriedersdorf
ATTACH;FMTTYPE=image/png:https://wildnispaedagogik-erzgebirge.de/wp-content/uploads/2025/02/WdA_SusannKretzschmar_Plakat25Mai.png
END:VEVENT
BEGIN:VEVENT
DTSTART;TZID=UTC:20250524T100000
DTEND;TZID=UTC:20250524T140000
DTSTAMP:20260424T155622
CREATED:20250226T232006Z
LAST-MODIFIED:20250309T142316Z
UID:4657-1748080800-1748095200@wildnispaedagogik-erzgebirge.de
SUMMARY:Wildes Flüstern - eine Entdeckungstour
DESCRIPTION:Wir nehmen dich mit auf eine Reise zu den oft übersehenen Wundern der Natur. Als Wildnispädagogen\, Blühbotschafter und Kräuterfachfrauen enthüllen wir die Geschichten am Wegesrand des Bornwaldes – uralt\, leise und voller Leben. Lausche dem wilden Flüstern der Erde\, damit jeder Spaziergang zu Deinem kleinen Wunder wird. Fühl` Dich herzlich eingeladen!  \n\n\n\nDiese Veranstaltung findet im Rahmen der Blühbotschaftertätigkeit des LPV statt.  Kursleiter: Josa und Susi Treffpunkt: Parkplatz schräg gegenüber der Bornwaldschänke \n\n\n\n \n\n\n\nBitte nutze das Kontaktformular zum Buchen. \n\n\n\n \n\n\n\nHier buchen
URL:https://wildnispaedagogik-erzgebirge.de/event/wildes-fluestern-eine-entdeckungstour/
LOCATION:Bornwald\, Börnichener Straße\, 09434 Krumhermersdorf
ATTACH;FMTTYPE=image/png:https://wildnispaedagogik-erzgebirge.de/wp-content/uploads/2025/02/WdA_SusannKretzschmar_Plakat24Mai.png
END:VEVENT
BEGIN:VEVENT
DTSTART;TZID=UTC:20250519T000000
DTEND;TZID=UTC:20250525T235959
DTSTAMP:20260424T155622
CREATED:20250226T231354Z
LAST-MODIFIED:20250303T063225Z
UID:4655-1747612800-1748217599@wildnispaedagogik-erzgebirge.de
SUMMARY:Woche der Artenvielfalt
DESCRIPTION:Die „Woche der Artenvielfalt“ bietet eine tolle Gelegenheit\, die Natur zu erleben\, etwas Gutes zu tun und Gleichgesinnte zu treffen. Egal\, ob Naturfreund\, Familie oder einfach aus Neugierde – jeder ist herzlich willkommen! \n\n\n\nUnter dem Motto „Vielfalt erleben – Macht mit!“ laden wir Dich herzlich ein\, Aktionen zu planen\, dich zu engagieren und den Tieren und Pflanzen vor unserer Haustür mehr Beachtung zu schenken. Wir als Blühbotschafter planen spannende Veranstaltungen in Euren Kommunen. Lass Dich anstecken und werde Teil davon! Du oder ihr wollt gern mitmachen\, sucht aber noch Ideen? Dann klick auf den Link und lasst Dich inspirieren oder schreib uns an! \n\n\n\n \n\n\n\nhttps://www.lpv-pobershau.de/woche-der-artenvielfalt/  \n\n\n\n \n\n\n\nBitte nutzt das Kontaktformular für die Anmeldung. Hier anmelden.
URL:https://wildnispaedagogik-erzgebirge.de/event/woche-der-artenvielfalt/
ATTACH;FMTTYPE=image/jpeg:https://wildnispaedagogik-erzgebirge.de/wp-content/uploads/2025/02/IMG-20250116-WA0040.jpg
END:VEVENT
BEGIN:VEVENT
DTSTART;TZID=UTC:20250514T180000
DTEND;TZID=UTC:20250514T200000
DTSTAMP:20260424T155622
CREATED:20250321T085423Z
LAST-MODIFIED:20250321T095034Z
UID:4833-1747245600-1747252800@wildnispaedagogik-erzgebirge.de
SUMMARY:Wildes Kraut im Jahreskreis
DESCRIPTION:Der Vortrag zur ganzheitlichen Wildkräuternutzung.  \n\n\n\nWorin du eintauchst: \n\n\n\nIn die Welt der wilden Kräuter\, die uns durch den Jahreskreis begleiten. Du lernst\, sie mit Achtung zu sammeln\, ihre wertvollen Inhaltsstoffe für Körper und Geist zu nutzen und sie auf traditionelle Weise zu verarbeiten. Jede Pflanze erzählt ihre eigene Geschichte – von den ersten zarten Blättern im Frühling bis zu den kräftigen Wurzeln im Herbst. \n\n\n\nGemeinsam entdecken wir kulinarische Highlights\, erfahren\, welche Wildkräuter uns in den verschiedenen Jahreszeiten stärken\, und lassen altes Wissen neu aufleben. Eine Reise voller Geschmack\, Achtsamkeit und tiefem Naturverständnis erwartet dich. \n\n\n\nKursleiter: Dominique und SusiPlatzreservierung unter 0177 6388680 – Böhm Elke\, Kulturcafé 432 Zschopau
URL:https://wildnispaedagogik-erzgebirge.de/event/wildes-kraut-im-jahreskreis/
ATTACH;FMTTYPE=image/png:https://wildnispaedagogik-erzgebirge.de/wp-content/uploads/2025/03/Wildes-Kraut-1.png
END:VEVENT
BEGIN:VEVENT
DTSTART;TZID=UTC:20250508T160000
DTEND;TZID=UTC:20250511T160000
DTSTAMP:20260424T155622
CREATED:20250226T223621Z
LAST-MODIFIED:20250309T141951Z
UID:4622-1746720000-1746979200@wildnispaedagogik-erzgebirge.de
SUMMARY:Draußenzeit - Feuer. Kräuter. Wildnis.
DESCRIPTION:3 Nächte pures Draußensein – erlebe mit uns die Kraft des Frühlings und die Intensität und Vielfalt des wieder erwachten Lebens. Im Mittelpunkt steht dabei\, deine Umgebung und alles was in ihr lebt\, besser wahrzunehmen.Lerne\, Dich bewusst mit und in der Natur zu bewegen. Entdecke die Vielfalt der Kräuter\, Vögel und verschiedener Lebewesen in der Natur und lerne ihren Kreislauf besser verstehen. Dabei geht es weniger um hartes Survivaltraining\, sondern um das Ziel\, sich in und mit der Natur zu Hause zu fühlen.Darauf kannst Du Dich freuen:– Kochen am offenen Feuer– Nahrungsfindung und Verarbeitung heimischer Kräuter– Wahrnehmungsübungen zum Schärfen der Sinne– Entfachen eines traditionellen Feuers– Schlafen im Draußen in einfachen Unterküften– Arbeiten mit Messer\, Beil und Säge– Nahrungsfindung- und Aufbereitung \n\n\n\nBitte nutze das Kontaktformular zum Buchen. \n\n\n\n  Hier buchen
URL:https://wildnispaedagogik-erzgebirge.de/event/voegel-kraeuter/
ATTACH;FMTTYPE=image/png:https://wildnispaedagogik-erzgebirge.de/wp-content/uploads/2025/02/in-to-the-wild.png.png
END:VEVENT
BEGIN:VEVENT
DTSTART;TZID=UTC:20250418T100000
DTEND;TZID=UTC:20250420T170000
DTSTAMP:20260424T155622
CREATED:20250226T195446Z
LAST-MODIFIED:20250306T164419Z
UID:4519-1744970400-1745168400@wildnispaedagogik-erzgebirge.de
SUMMARY:Funken. Flamme. Feuerzeit.
DESCRIPTION:2 Nächte pures Draußensein. Gemeinsam entfachen WIR das FEUER! \nStelle deinen eigenen Feuerbogen her. Entfache die Glut\, die zur Flamme wird. \nKoche nach uralter Tradition an offenem Feuer – lass dich vom Spiel aus Flammen\, Rauch und Wärme faszinieren.  \nLass dieses Wochenende zu einem besonderen Erlebnis werden. Gemeinsam stellen wir die Kraft des Feuers in den Mittelpunkt\, denn Feuer ist nicht nur eine Quelle von Licht und Wärme\, sondern auch ein Symbol für Transformation und Gemeinschaft. Als der Mensch begann\, das Feuer zu zähmen\, veränderte sich das Leben auf unserer Erde grundlegend. \nDu wirst lernen\, wie Du sicher mit Feuer umgehst\, es entfachst und kontrollierst. Dabei werden wir auch die Bedeutung des Feuers für frühere Gesellschaften und für uns heute reflektieren. \nDas Spiel des Feuers ist nicht nur eine technische Fähigkeit\, sondern auch eine Möglichkeit\, unsere Verbindung zur Natur und zu uns selbst zu vertiefen. Wir werden die Achtsamkeit und den Respekt\, die das Feuer erfordert\, in unsere Übungen einfließen lassen. \nDarauf kannst Du Dich freuen:  \n– Herstellen deines eigenen Feuerbogens – Kochen am offenen Feuer – Entdecken kulinarischer Überraschungen aus der Natur– Wahrnehmungsübungen zum Schärfen der Sinne– Erlernen der Technik des Glutbrennens– und vieles mehr! \nKursgebühr 249 Euro zzgl 49 Euro Verpflegungs- und Platzgebühr \nBitte nutze das Kontaktformular zum Buchen. \nHier buchen
URL:https://wildnispaedagogik-erzgebirge.de/event/funken-flamme-feuerzeit/
LOCATION:Wolkenstein\, Geringswalde
ATTACH;FMTTYPE=image/png:https://wildnispaedagogik-erzgebirge.de/wp-content/uploads/2025/02/K.zip-4.png.png
END:VEVENT
BEGIN:VEVENT
DTSTART;TZID=UTC:20250301T093000
DTEND;TZID=UTC:20250301T120000
DTSTAMP:20260424T155622
CREATED:20250226T224536Z
LAST-MODIFIED:20250303T063001Z
UID:4637-1740821400-1740830400@wildnispaedagogik-erzgebirge.de
SUMMARY:Wildnisküche - backen\, kochen\, dippen
DESCRIPTION:Lerne Wildkräuter aus Wald und Wiese kreativ und beim Kochen\, Backen und Dippen kennen. Freue dich auf wilde Küche mit den Kräutern vor deiner Haustür! Der Kurs findet im Rahmen der Blühbotschaftertätigkeit des LPV statt.  \n\n\n\n \n\n\n\nBitte nutzt das Kontaktformular für die Anmeldung. Hier anmelden.Susi
URL:https://wildnispaedagogik-erzgebirge.de/event/backen-kochen-dippen/
LOCATION:Gartenverein „Am Greifenstein e.V.“\, Triftweg 20\, Ehrenfriedersdorf
ATTACH;FMTTYPE=image/jpeg:https://wildnispaedagogik-erzgebirge.de/wp-content/uploads/2025/02/Foto-kraeutersalz-1-e1740614230164.jpg
END:VEVENT
BEGIN:VEVENT
DTSTART;TZID=UTC:20250228T173000
DTEND;TZID=UTC:20250228T193000
DTSTAMP:20260424T155622
CREATED:20250226T221355Z
LAST-MODIFIED:20250303T063042Z
UID:4610-1740763800-1740771000@wildnispaedagogik-erzgebirge.de
SUMMARY:Vortrag: Wildes Kraut im Jahreskreis
DESCRIPTION:Der Wildkräutervortrag vermittelt vielseitige Möglichkeiten zur Wildkräuternutzung im phänologischen Jahresverlauf und bietet praktische Anwendungstipps. Der Vortrag findet im Rahmen der Blühbotschaftertätigkeit für den LPV statt.  \n\n\n\nBitte nutzt das Kontaktformular für die Anmeldung. Hier anmelden. \n\n\n\nSusi
URL:https://wildnispaedagogik-erzgebirge.de/event/vortrag-wildes-kraut-im-jahreskreis/
LOCATION:Gartenverein „Am Greifenstein e.V.“\, Triftweg 20\, Ehrenfriedersdorf
ATTACH;FMTTYPE=image/jpeg:https://wildnispaedagogik-erzgebirge.de/wp-content/uploads/2025/02/20231015_001204-scaled-e1740614134865.jpg
END:VEVENT
BEGIN:VEVENT
DTSTART;TZID=UTC:20250228T163000
DTEND;TZID=UTC:20250301T140000
DTSTAMP:20260424T155622
CREATED:20250226T220212Z
LAST-MODIFIED:20250302T104626Z
UID:4604-1740760200-1740837600@wildnispaedagogik-erzgebirge.de
SUMMARY:Räucherkurs für Käse und Wurstwaren
DESCRIPTION:Räuchern – ohne Schnickschnack\, im Einklang mit dem Wesentlichen. Mit jahrelanger Erfahrung im Draußensein und der Selbstversorgung lade ich dich ein\, das Wissen der Natur zu erleben und mit ihren einfachen Gaben zu räuchern.  \n\n\n\nKursleiter: Ben
URL:https://wildnispaedagogik-erzgebirge.de/event/raeucherkurs/
LOCATION:Gartenverein „Am Greifenstein e.V.“\, Triftweg 20\, Ehrenfriedersdorf
ATTACH;FMTTYPE=image/jpeg:https://wildnispaedagogik-erzgebirge.de/wp-content/uploads/2025/02/signal-2022-01-23-16-11-15-720-e1740614051576.jpg
END:VEVENT
END:VCALENDAR